BEGIN:VCALENDAR
VERSION:2.0
PRODID:-//hacksw/handcal//NONSGML v1.0//EN
BEGIN:VEVENT
SUMMARY:Tournoi regional
UID:ffe07985-6daf-45ea-82d5-a6ee18816f24
DTSTART:20251117T090000Z
DTEND:20251117T170000Z
LOCATION:Localisation Stade de ma ville 72000 
CATEGORIES:Sportif
STATUS:
DESCRIPTION:<p>Le tournoi regional organise par le club debutera sur
 le grand stade de la ville.<br>Les prix seront remis en soiree.</p>
URL;VALUE=URI:https://petanquedesvernets.sportsregions.fr/evenements/2025/11/17/tournoi-regional-2358408
END:VEVENT
END:VCALENDAR
